BEGIN:VCALENDAR
VERSION:2.0
PRODID:-//International Federation of Cheerleading - ECPv6.15.20//NONSGML v1.0//EN
CALSCALE:GREGORIAN
METHOD:PUBLISH
X-WR-CALNAME:International Federation of Cheerleading
X-ORIGINAL-URL:https://ifccheer.org
X-WR-CALDESC:Events for International Federation of Cheerleading
REFRESH-INTERVAL;VALUE=DURATION:PT1H
X-Robots-Tag:noindex
X-PUBLISHED-TTL:PT1H
BEGIN:VTIMEZONE
TZID:Asia/Bangkok
BEGIN:STANDARD
TZOFFSETFROM:+0700
TZOFFSETTO:+0700
TZNAME:+07
DTSTART:20240101T000000
END:STANDARD
END:VTIMEZONE
BEGIN:VEVENT
DTSTART;VALUE=DATE:20251024
DTEND;VALUE=DATE:20251027
DTSTAMP:20260424T134705
CREATED:20250829T031848Z
LAST-MODIFIED:20250829T032048Z
UID:4563-1761264000-1761523199@ifccheer.org
SUMMARY:Thailand Open 2025
DESCRIPTION:
URL:https://ifccheer.org/events/thailand-open-2025
LOCATION:Suryadhep Music Sala at Rangsit University\, Bangkok\, Thailand
CATEGORIES:Competition,Open
ATTACH;FMTTYPE=image/png:https://ifccheer.org/wp-content/uploads/2025/08/thailand-open-2025-logo.png
END:VEVENT
END:VCALENDAR