BEGIN:VCALENDAR
VERSION:2.0
PRODID:-//International Federation of Cheerleading - ECPv6.15.20//NONSGML v1.0//EN
CALSCALE:GREGORIAN
METHOD:PUBLISH
X-ORIGINAL-URL:https://ifccheer.org
X-WR-CALDESC:Events for International Federation of Cheerleading
REFRESH-INTERVAL;VALUE=DURATION:PT1H
X-Robots-Tag:noindex
X-PUBLISHED-TTL:PT1H
BEGIN:VTIMEZONE
TZID:Asia/Tokyo
BEGIN:STANDARD
TZOFFSETFROM:+0900
TZOFFSETTO:+0900
TZNAME:JST
DTSTART:20220101T000000
END:STANDARD
END:VTIMEZONE
BEGIN:VEVENT
DTSTART;VALUE=DATE:20230708
DTEND;VALUE=DATE:20230710
DTSTAMP:20260426T123132
CREATED:20230518T063620Z
LAST-MODIFIED:20230524T022718Z
UID:4053-1688774400-1688947199@ifccheer.org
SUMMARY:European Cheerleading Championships 2023
DESCRIPTION:
URL:https://ifccheer.org/events/european-cheerleading-championships-2023
LOCATION:Halle am Platz der Deutschen Einheit\, Platz der Deutschen Einheit\, 65185\, Wiesbaden\, Germany
CATEGORIES:Competition,Continental
END:VEVENT
END:VCALENDAR