BEGIN:VCALENDAR
VERSION:2.0
PRODID:-//International Federation of Cheerleading - ECPv6.15.20//NONSGML v1.0//EN
CALSCALE:GREGORIAN
METHOD:PUBLISH
X-WR-CALNAME:International Federation of Cheerleading
X-ORIGINAL-URL:https://ifccheer.org
X-WR-CALDESC:Events for International Federation of Cheerleading
REFRESH-INTERVAL;VALUE=DURATION:PT1H
X-Robots-Tag:noindex
X-PUBLISHED-TTL:PT1H
BEGIN:VTIMEZONE
TZID:Asia/Tokyo
BEGIN:STANDARD
TZOFFSETFROM:+0900
TZOFFSETTO:+0900
TZNAME:JST
DTSTART:20230101T000000
END:STANDARD
END:VTIMEZONE
BEGIN:VEVENT
DTSTART;VALUE=DATE:20240404
DTEND;VALUE=DATE:20240405
DTSTAMP:20260425T212801
CREATED:20231213T074151Z
LAST-MODIFIED:20231213T074151Z
UID:4108-1712188800-1712275199@ifccheer.org
SUMMARY:7th Ocean Cheerleading Championship and City Cheerleading Invitational Competition
DESCRIPTION:
URL:https://ifccheer.org/events/7th-ocean-cheerleading-championship-and-city-cheerleading-invitational-competition
LOCATION:National Sun Yat-Sen University Gymnasium\, Kaohsiung\, Taiwan
CATEGORIES:Competition
END:VEVENT
END:VCALENDAR