BEGIN:VCALENDAR
VERSION:2.0
PRODID:-//International Federation of Cheerleading - ECPv6.15.20//NONSGML v1.0//EN
CALSCALE:GREGORIAN
METHOD:PUBLISH
X-ORIGINAL-URL:https://ifccheer.org
X-WR-CALDESC:Events for International Federation of Cheerleading
REFRESH-INTERVAL;VALUE=DURATION:PT1H
X-Robots-Tag:noindex
X-PUBLISHED-TTL:PT1H
BEGIN:VTIMEZONE
TZID:Asia/Tokyo
BEGIN:STANDARD
TZOFFSETFROM:+0900
TZOFFSETTO:+0900
TZNAME:JST
DTSTART:20220101T000000
END:STANDARD
END:VTIMEZONE
BEGIN:VEVENT
DTSTART;VALUE=DATE:20230817
DTEND;VALUE=DATE:20230821
DTSTAMP:20260424T055610
CREATED:20230605T071319Z
LAST-MODIFIED:20230605T071319Z
UID:4063-1692230400-1692575999@ifccheer.org
SUMMARY:Japan Cup 2023
DESCRIPTION:
URL:https://ifccheer.org/events/japan-cup-2023
LOCATION:Yoyogi National Stadium 1st Gymnasium\, 2-1-1 Jinnan\, Shibuya-ku\,\, Tokyo\, Tokyo\, 150-0041\, Japan
CATEGORIES:Competition,National
END:VEVENT
BEGIN:VEVENT
DTSTART;VALUE=DATE:20230708
DTEND;VALUE=DATE:20230710
DTSTAMP:20260424T055610
CREATED:20230518T063620Z
LAST-MODIFIED:20230524T022718Z
UID:4053-1688774400-1688947199@ifccheer.org
SUMMARY:European Cheerleading Championships 2023
DESCRIPTION:
URL:https://ifccheer.org/events/european-cheerleading-championships-2023
LOCATION:Halle am Platz der Deutschen Einheit\, Platz der Deutschen Einheit\, 65185\, Wiesbaden\, Germany
CATEGORIES:Competition,Continental
END:VEVENT
BEGIN:VEVENT
DTSTART;VALUE=DATE:20230401
DTEND;VALUE=DATE:20230402
DTSTAMP:20260424T055610
CREATED:20221207T052104Z
LAST-MODIFIED:20221207T052104Z
UID:4015-1680307200-1680393599@ifccheer.org
SUMMARY:6th Ocean Cheerleading Championship
DESCRIPTION:
URL:https://ifccheer.org/events/6th-ocean-cheerleading-championship
LOCATION:National Sun Yat-Sen University Gymnasium\, Kaohsiung\, Taiwan
CATEGORIES:Competition
END:VEVENT
END:VCALENDAR