BEGIN:VCALENDAR
VERSION:2.0
PRODID:-//International Federation of Cheerleading - ECPv6.15.20//NONSGML v1.0//EN
CALSCALE:GREGORIAN
METHOD:PUBLISH
X-ORIGINAL-URL:https://ifccheer.org
X-WR-CALDESC:Events for International Federation of Cheerleading
REFRESH-INTERVAL;VALUE=DURATION:PT1H
X-Robots-Tag:noindex
X-PUBLISHED-TTL:PT1H
BEGIN:VTIMEZONE
TZID:Asia/Tokyo
BEGIN:STANDARD
TZOFFSETFROM:+0900
TZOFFSETTO:+0900
TZNAME:JST
DTSTART:20240101T000000
END:STANDARD
END:VTIMEZONE
BEGIN:VEVENT
DTSTART;VALUE=DATE:20251213
DTEND;VALUE=DATE:20251214
DTSTAMP:20260424T135509
CREATED:20250723T071318Z
LAST-MODIFIED:20250912T054546Z
UID:4557-1765584000-1765670399@ifccheer.org
SUMMARY:12th Cheerleading World Championships
DESCRIPTION:
URL:https://ifccheer.org/events/12th-cheerleading-world-championships
LOCATION:Takasaki Arena\, Takasaki\, Japan
CATEGORIES:Competition,World
ATTACH;FMTTYPE=image/png:https://ifccheer.org/wp-content/uploads/2025/07/cwc-2025-logo.png
END:VEVENT
END:VCALENDAR