BEGIN:VCALENDAR
VERSION:2.0
PRODID:-//International Federation of Cheerleading - ECPv6.15.20//NONSGML v1.0//EN
CALSCALE:GREGORIAN
METHOD:PUBLISH
X-WR-CALNAME:International Federation of Cheerleading
X-ORIGINAL-URL:https://ifccheer.org
X-WR-CALDESC:Events for International Federation of Cheerleading
REFRESH-INTERVAL;VALUE=DURATION:PT1H
X-Robots-Tag:noindex
X-PUBLISHED-TTL:PT1H
BEGIN:VTIMEZONE
TZID:Asia/Taipei
BEGIN:STANDARD
TZOFFSETFROM:+0800
TZOFFSETTO:+0800
TZNAME:CST
DTSTART:20250101T000000
END:STANDARD
END:VTIMEZONE
BEGIN:VTIMEZONE
TZID:Europe/Zagreb
BEGIN:DAYLIGHT
TZOFFSETFROM:+0100
TZOFFSETTO:+0200
TZNAME:CEST
DTSTART:20250330T010000
END:DAYLIGHT
BEGIN:STANDARD
TZOFFSETFROM:+0200
TZOFFSETTO:+0100
TZNAME:CET
DTSTART:20251026T010000
END:STANDARD
BEGIN:DAYLIGHT
TZOFFSETFROM:+0100
TZOFFSETTO:+0200
TZNAME:CEST
DTSTART:20260329T010000
END:DAYLIGHT
BEGIN:STANDARD
TZOFFSETFROM:+0200
TZOFFSETTO:+0100
TZNAME:CET
DTSTART:20261025T010000
END:STANDARD
BEGIN:DAYLIGHT
TZOFFSETFROM:+0100
TZOFFSETTO:+0200
TZNAME:CEST
DTSTART:20270328T010000
END:DAYLIGHT
BEGIN:STANDARD
TZOFFSETFROM:+0200
TZOFFSETTO:+0100
TZNAME:CET
DTSTART:20271031T010000
END:STANDARD
END:VTIMEZONE
BEGIN:VEVENT
DTSTART;VALUE=DATE:20260403
DTEND;VALUE=DATE:20260404
DTSTAMP:20260424T060415
CREATED:20251223T014643Z
LAST-MODIFIED:20251223T014643Z
UID:4613-1775174400-1775260799@ifccheer.org
SUMMARY:9th Ocean Cheerleading Championship
DESCRIPTION:
URL:https://ifccheer.org/events/9th-ocean-cheerleading-championship
LOCATION:Fengshan Stadium\, Kaohsiung\, Taiwan
CATEGORIES:Competition,Open
ATTACH;FMTTYPE=image/jpeg:https://ifccheer.org/wp-content/uploads/2025/12/OCC-2026-Logo-e1775712546305.jpeg
END:VEVENT
BEGIN:VEVENT
DTSTART;VALUE=DATE:20260627
DTEND;VALUE=DATE:20260629
DTSTAMP:20260424T060415
CREATED:20260206T050546Z
LAST-MODIFIED:20260206T050546Z
UID:4641-1782518400-1782691199@ifccheer.org
SUMMARY:European Cheerleading Championships 2026
DESCRIPTION:
URL:https://ifccheer.org/events/european-cheerleading-championships-2026
LOCATION:Novigrad\, Novigrad
CATEGORIES:Competition,Continental
ATTACH;FMTTYPE=image/jpeg:https://ifccheer.org/wp-content/uploads/2026/02/626604136_1328153522671823_7095254601338128123_n.jpg
END:VEVENT
END:VCALENDAR