BEGIN:VCALENDAR
VERSION:2.0
PRODID:-//International Federation of Cheerleading - ECPv6.15.20//NONSGML v1.0//EN
CALSCALE:GREGORIAN
METHOD:PUBLISH
X-WR-CALNAME:International Federation of Cheerleading
X-ORIGINAL-URL:https://ifccheer.org
X-WR-CALDESC:Events for International Federation of Cheerleading
REFRESH-INTERVAL;VALUE=DURATION:PT1H
X-Robots-Tag:noindex
X-PUBLISHED-TTL:PT1H
BEGIN:VTIMEZONE
TZID:UTC
BEGIN:STANDARD
TZOFFSETFROM:+0000
TZOFFSETTO:+0000
TZNAME:UTC
DTSTART:20180101T000000
END:STANDARD
END:VTIMEZONE
BEGIN:VEVENT
DTSTART;TZID=UTC:20191122T150000
DTEND;TZID=UTC:20191122T170000
DTSTAMP:20260426T101445
CREATED:20191008T215259Z
LAST-MODIFIED:20191008T215259Z
UID:740-1574434800-1574442000@ifccheer.org
SUMMARY:Annual General Meeting 2019
DESCRIPTION:
URL:https://ifccheer.org/events/annual-general-meeting-2019
LOCATION:Takasaki Arena\, Takasaki\, Japan
END:VEVENT
END:VCALENDAR