BEGIN:VCALENDAR
VERSION:2.0
PRODID:-//International Federation of Cheerleading - ECPv6.15.20//NONSGML v1.0//EN
CALSCALE:GREGORIAN
METHOD:PUBLISH
X-ORIGINAL-URL:https://ifccheer.org
X-WR-CALDESC:Events for International Federation of Cheerleading
REFRESH-INTERVAL;VALUE=DURATION:PT1H
X-Robots-Tag:noindex
X-PUBLISHED-TTL:PT1H
BEGIN:VTIMEZONE
TZID:Europe/Vilnius
BEGIN:DAYLIGHT
TZOFFSETFROM:+0200
TZOFFSETTO:+0300
TZNAME:EEST
DTSTART:20230326T010000
END:DAYLIGHT
BEGIN:STANDARD
TZOFFSETFROM:+0300
TZOFFSETTO:+0200
TZNAME:EET
DTSTART:20231029T010000
END:STANDARD
BEGIN:DAYLIGHT
TZOFFSETFROM:+0200
TZOFFSETTO:+0300
TZNAME:EEST
DTSTART:20240331T010000
END:DAYLIGHT
BEGIN:STANDARD
TZOFFSETFROM:+0300
TZOFFSETTO:+0200
TZNAME:EET
DTSTART:20241027T010000
END:STANDARD
BEGIN:DAYLIGHT
TZOFFSETFROM:+0200
TZOFFSETTO:+0300
TZNAME:EEST
DTSTART:20250330T010000
END:DAYLIGHT
BEGIN:STANDARD
TZOFFSETFROM:+0300
TZOFFSETTO:+0200
TZNAME:EET
DTSTART:20251026T010000
END:STANDARD
END:VTIMEZONE
BEGIN:VEVENT
DTSTART;TZID=Europe/Vilnius:20240519T120000
DTEND;TZID=Europe/Vilnius:20240519T120000
DTSTAMP:20260426T101608
CREATED:20240419T062652Z
LAST-MODIFIED:20240419T062731Z
UID:4462-1716120000-1716120000@ifccheer.org
SUMMARY:Lithuanian Open Cheerleading Championship '24
DESCRIPTION:
URL:https://ifccheer.org/events/lithuanian-open-cheerleading-championship-24
LOCATION:Birštono sporto ir sveikatingumo centras\, Kęstučio g. 14\, Birštonas\, Lithuania
END:VEVENT
END:VCALENDAR