BEGIN:VCALENDAR
VERSION:2.0
PRODID:-//International Federation of Cheerleading - ECPv6.15.20//NONSGML v1.0//EN
CALSCALE:GREGORIAN
METHOD:PUBLISH
X-WR-CALNAME:International Federation of Cheerleading
X-ORIGINAL-URL:https://ifccheer.org
X-WR-CALDESC:Events for International Federation of Cheerleading
REFRESH-INTERVAL;VALUE=DURATION:PT1H
X-Robots-Tag:noindex
X-PUBLISHED-TTL:PT1H
BEGIN:VTIMEZONE
TZID:Asia/Bangkok
BEGIN:STANDARD
TZOFFSETFROM:+0700
TZOFFSETTO:+0700
TZNAME:+07
DTSTART:20230101T000000
END:STANDARD
END:VTIMEZONE
BEGIN:VEVENT
DTSTART;VALUE=DATE:20241122
DTEND;VALUE=DATE:20241125
DTSTAMP:20260426T001846
CREATED:20240902T031400Z
LAST-MODIFIED:20240902T031400Z
UID:4510-1732233600-1732492799@ifccheer.org
SUMMARY:Thailand Open 2024 & TNCC 2024
DESCRIPTION:
URL:https://ifccheer.org/events/thailand-open-2024-tncc-2024
LOCATION:Suryadhep Music Sala at Rangsit University\, Bangkok\, Thailand
CATEGORIES:Competition,Open
ATTACH;FMTTYPE=image/jpeg:https://ifccheer.org/wp-content/uploads/2024/09/TNCC_2024_Thailand_Open_Logo.jpg
END:VEVENT
END:VCALENDAR